BEGIN:VCALENDAR
VERSION:2.0
PRODID:-//HashtagMKE - ECPv6.15.20//NONSGML v1.0//EN
CALSCALE:GREGORIAN
METHOD:PUBLISH
X-WR-CALNAME:HashtagMKE
X-ORIGINAL-URL:https://hashtagmke.com
X-WR-CALDESC:Events for HashtagMKE
REFRESH-INTERVAL;VALUE=DURATION:PT1H
X-Robots-Tag:noindex
X-PUBLISHED-TTL:PT1H
BEGIN:VTIMEZONE
TZID:America/Chicago
BEGIN:DAYLIGHT
TZOFFSETFROM:-0600
TZOFFSETTO:-0500
TZNAME:CDT
DTSTART:20220313T080000
END:DAYLIGHT
BEGIN:STANDARD
TZOFFSETFROM:-0500
TZOFFSETTO:-0600
TZNAME:CST
DTSTART:20221106T070000
END:STANDARD
BEGIN:DAYLIGHT
TZOFFSETFROM:-0600
TZOFFSETTO:-0500
TZNAME:CDT
DTSTART:20230312T080000
END:DAYLIGHT
BEGIN:STANDARD
TZOFFSETFROM:-0500
TZOFFSETTO:-0600
TZNAME:CST
DTSTART:20231105T070000
END:STANDARD
BEGIN:DAYLIGHT
TZOFFSETFROM:-0600
TZOFFSETTO:-0500
TZNAME:CDT
DTSTART:20240310T080000
END:DAYLIGHT
BEGIN:STANDARD
TZOFFSETFROM:-0500
TZOFFSETTO:-0600
TZNAME:CST
DTSTART:20241103T070000
END:STANDARD
BEGIN:DAYLIGHT
TZOFFSETFROM:-0600
TZOFFSETTO:-0500
TZNAME:CDT
DTSTART:20250309T080000
END:DAYLIGHT
BEGIN:STANDARD
TZOFFSETFROM:-0500
TZOFFSETTO:-0600
TZNAME:CST
DTSTART:20251102T070000
END:STANDARD
END:VTIMEZONE
BEGIN:VEVENT
DTSTART;TZID=America/Chicago:20240808T180000
DTEND;TZID=America/Chicago:20240808T200000
DTSTAMP:20260422T003728
CREATED:20240723T190954Z
LAST-MODIFIED:20240827T151325Z
UID:11491-1723140000-1723147200@hashtagmke.com
SUMMARY:Food Inspired Content Creation
DESCRIPTION:Topic: Food Inspired Content Creation\nSpecial Guests:\n\nKelli Calkins – Content Creator (IG: @CookingWithKelli)\nLori Fredrich – OnMilwaukee Senior Writer\, Dining Editor (IG: @LoFredrich)\nNicole – Food Blogger (IG: @TheHungryGirlFoodBlog)\nSuhib + Omar – Gordo’s Bubble Waffles Co-Owners (IG: @GordosBubbleWaffles)\n\nEvent Details: One thing known to bring people together is a shared meal. Each of our special guests have a unique connection to the food scene from content creator to restaurant ownership to professional writer. Learn more about how you can make food inspired content that your audience will want to eat up! \n \nJoin us on Thursday\, August 8 from 6 to 8 p.m. at The Bridgewater Modern Grill (2011 S 1st St\, Milwaukee\, WI 53207). This is a free and casual networking event (cash bar) without a panel or presentations. Come when you can and chat with whoever you’d like to. \nAbout HashtagMKE Events: HashtagMKE is a community of local content creators and social media enthusiasts who gather to collaborate and network. Our events provide an excellent opportunity to discuss social media marketing best practices\, favorite resources\, current trends\, tips and tricks. \nStay the whole time or drop in when you can! We can’t wait to meet you IRL (in real life)! Bring some business cards to exchange or plan to write your social handle on our community whiteboard! \nIf this is your first event\, view our frequently asked questions. \n 
URL:https://hashtagmke.com/event/foodies-2024/
LOCATION:The Bridgewater Modern Grill\, 2011 S 1st St\, Milwaukee\, WI\, 53207\, United States
CATEGORIES:HashtagMKE Social
ATTACH;FMTTYPE=image/jpeg:https://hashtagmke.com/wp-content/uploads/2024/07/Aug8-HashtagMKE-Article-Headers.jpg
ORGANIZER;CN="HashtagMKE":MAILTO:Events@HashtagMKE.com
END:VEVENT
BEGIN:VEVENT
DTSTART;TZID=America/Chicago:20240725T170000
DTEND;TZID=America/Chicago:20240725T190000
DTSTAMP:20260422T003728
CREATED:20240709T155859Z
LAST-MODIFIED:20240709T163005Z
UID:11217-1721926800-1721934000@hashtagmke.com
SUMMARY:Content Creator Networking
DESCRIPTION:HashtagMKE and the International Institute of Wisconsin (IIW) invite content creators near (and far) to network! Join us on Thursday\, July 25 (5-7p) at Pufferfish on the 6th floor of Hotel Metro in Milwaukee. \nThis event is free to attend (cash bar)\, come when you can and make new connections while you’re here! All are welcome\, whether you’re a newer content creator or an established influencer. \n \nAbout HashtagMKE Events: HashtagMKE is a community of local content creators and social media enthusiasts who gather to collaborate and network. Our events provide an excellent opportunity to discuss social media marketing best practices\, favorite resources\, current trends\, tips and tricks. \nStay the whole time or drop in when you can! We can’t wait to meet you IRL (in real life)! Bring some business cards to exchange or plan to write your social handle on our community whiteboard! \nIf this is your first event\, view our frequently asked questions. \nAbout IIW: The International Institute of Wisconsin\, established in 1936\, assists immigrants and refugees in transitioning into the community by offering programming and support services. From immigration and social services to refugee resettlement\, the IIW promotes international cooperation\, understanding\, and a multi-ethnic\, multi-cultural perspective. \nIIW is currently the only organization in Wisconsin that hosts the International Visitor Leadership Program (IVLP)\, a premier professional exchange program by the U.S. State Department’s Bureau of Educational and Cultural Affairs\, based in Washington\, D.C.
URL:https://hashtagmke.com/event/networking-072524/
LOCATION:Pufferfish\, 411 E Mason St\, 6th Floor\, Milwaukee\, WI\, 53202\, United States
CATEGORIES:HashtagMKE Social
ATTACH;FMTTYPE=image/jpeg:https://hashtagmke.com/wp-content/uploads/2024/07/Attendance-HashtagMKE-Event-Header.jpg
ORGANIZER;CN="HashtagMKE":MAILTO:Events@HashtagMKE.com
END:VEVENT
BEGIN:VEVENT
DTSTART;TZID=America/Chicago:20240711T180000
DTEND;TZID=America/Chicago:20240711T200000
DTSTAMP:20260422T003728
CREATED:20240627T211849Z
LAST-MODIFIED:20240627T211849Z
UID:10990-1720720800-1720728000@hashtagmke.com
SUMMARY:HashtagMKE Social
DESCRIPTION:Event Details: Join us for casual networking on Thursday\, July 11 from 6-8 pm at Finks (1875 N Humboldt Ave\, Milwaukee\, WI 53202). \nThis is a free event\, come when you can and chat with whoever you’d like to. \n \nAbout HashtagMKE Socials: HashtagMKE is a community of local content creators and social media enthusiasts who come together to collaborate and network. This is an excellent opportunity to discuss social media marketing best practices\, favorite resources\, current trends\, tips and tricks. \nThese meetups are free and open to the public; we encourage you to invite your friends and colleagues! All are welcome to attend\, whether you’re a marketing manager with years of experience or an intern\, eager to learn more. \nStay the whole time or drop in when you can! We can’t wait to meet you IRL (in real life)! Bring some business cards to exchange or plan to write your social handle on our community whiteboard! \nIf this is your first event\, view our frequently asked questions.
URL:https://hashtagmke.com/event/social-071124/
LOCATION:Finks\, 1875 N Humboldt Ave\, Milwaukee\, WI\, 53202\, United States
CATEGORIES:HashtagMKE Social
ATTACH;FMTTYPE=image/jpeg:https://hashtagmke.com/wp-content/uploads/2024/06/Finks.jpg
ORGANIZER;CN="HashtagMKE":MAILTO:Events@HashtagMKE.com
END:VEVENT
BEGIN:VEVENT
DTSTART;TZID=America/Chicago:20240613T180000
DTEND;TZID=America/Chicago:20240613T200000
DTSTAMP:20260422T003728
CREATED:20240515T171729Z
LAST-MODIFIED:20240515T172221Z
UID:10769-1718301600-1718308800@hashtagmke.com
SUMMARY:Free Headshots by Breanna Taylor
DESCRIPTION:HashtagMKE Social’s Topic: FREE HEADSHOTS by Breanna Taylor \nDetails: Your social media profile picture is often your first (and sometimes last) impression. When was the last time you updated yours (and it wasn’t a selfie)? Attend our Social for ONE (1) FREE professional headshot by Breanna. Our Social is on Thursday\, June 13 from 6-8p at the Barrel Yard Taproom in American Family Field (1 Brewers Way\, Milwaukee\, WI 53214). \nPhotographer: Breanna Taylor (IG: @Shot_By_Bree16)\, Marketing Associate of Teens Grow Greens \nTeens Grow Greens‘ mission is to develop local teens through transformative experiences that cultivate leadership skills and more. \n \nRead: 5 Tips for Updating Your Profile Picture \nAbout HashtagMKE Socials: HashtagMKE is a community of local content creators and social media enthusiasts who come together to collaborate and network. This is an excellent opportunity to discuss social media marketing best practices\, favorite resources\, current trends\, tips and tricks. \nThese meetups are free and open to the public; we encourage you to invite your friends and colleagues! All are welcome to attend\, whether you’re a marketing manager with years of experience or an intern\, eager to learn more. \nStay the whole time or drop in when you can! We can’t wait to meet you IRL (in real life)! Make sure to bring some business cards to exchange or just plan to write your social handle(s) on our community whiteboard! \nIf this is your first event\, take a look at our frequently asked questions.
URL:https://hashtagmke.com/event/free-headshots-061324/
LOCATION:Barrel Yard\, 1 Brewers Way\, Milwaukee\, WI\, 53214\, United States
CATEGORIES:HashtagMKE Social
ATTACH;FMTTYPE=image/jpeg:https://hashtagmke.com/wp-content/uploads/2024/05/HashtagMKE-June-2024-Header.jpg
ORGANIZER;CN="HashtagMKE":MAILTO:Events@HashtagMKE.com
END:VEVENT
BEGIN:VEVENT
DTSTART;TZID=America/Chicago:20240509T180000
DTEND;TZID=America/Chicago:20240509T200000
DTSTAMP:20260422T003728
CREATED:20240418T160347Z
LAST-MODIFIED:20240418T160622Z
UID:10195-1715277600-1715284800@hashtagmke.com
SUMMARY:Monetizing Content
DESCRIPTION:HashtagMKE Social’s Topic: Monetizing Content\nSpecial Guests:\n• Adam + Hannah (IG: @GettingStamped)\n• Meg (IG: @MilwaukeePhoto)\n• Nick (IG: @Milweb1) \nEvent Details: Monetizing Content is a popular topic\, especially as content creators grow their following and engagement! If you’re trying to figure out if your rates are high enough\, how to improve your negotiation skills\, or want to know where to start – this event is for you. \nJoin us on Thursday\, May 9 from 6-8 pm at Supermoon Beer Company (3145 S Howell Ave\, Milwaukee\, WI 53207). This is a free casual networking event without a panel or presentations. Come when you can and chat with whoever you’d like to. \n \nAbout HashtagMKE Socials: HashtagMKE is a community of local content creators and social media enthusiasts who come together to collaborate and network. This is an excellent opportunity to discuss social media marketing best practices\, favorite resources\, current trends\, tips and tricks. \nThese meetups are free and open to the public; we encourage you to invite your friends and colleagues! All are welcome to attend\, whether you’re a marketing manager with years of experience or an intern\, eager to learn more. \nStay the whole time or drop in when you can! We can’t wait to meet you IRL (in real life)! Bring some business cards to exchange or plan to write your social handle on our community whiteboard! \nIf this is your first event\, view our frequently asked questions.
URL:https://hashtagmke.com/event/monetizing-content/
LOCATION:Supermoon Beer Company\, 3145 S Howell Ave\, Milwaukee\, WI\, 53207\, United States
CATEGORIES:HashtagMKE Social
ATTACH;FMTTYPE=image/jpeg:https://hashtagmke.com/wp-content/uploads/2024/04/May9-Event-Header.jpg
ORGANIZER;CN="HashtagMKE":MAILTO:Events@HashtagMKE.com
END:VEVENT
BEGIN:VEVENT
DTSTART;TZID=America/Chicago:20240411T180000
DTEND;TZID=America/Chicago:20240411T200000
DTSTAMP:20260422T003728
CREATED:20240314T230008Z
LAST-MODIFIED:20240315T164323Z
UID:9808-1712858400-1712865600@hashtagmke.com
SUMMARY:AI + Social Media
DESCRIPTION:HashtagMKE Social’s Topic: AI + Social Media\nSpecial Guests:\n• Nadiyah Johnson (IG: @hayidan) – CEO of Milky Way Tech Hub + Jet Constellations \n– Member of Governor Evers’ Task Force on Workforce and Artificial Intelligence \n• Carl Lewis (IG: @_GM_Carl) – CEO of Craft The Future \n• Ben Paulson (LI: Ben-Paulson) – President of MSOE AI-Club (MAIC) \n• Dr. Larry Zhiming Xu (LI: LarryZhimingXu) – Assistant Professor of Strategic Communication at Marquette University \nEvent Details: AI has impacted several industries including social media; our special guests have been picked for their professional connections to artificial intelligence. From making content creation more efficient to writing the perfect copy for your post\, AI has a lot of ways it can be leveraged. \nJoin us on Thursday\, April 11 from 6-8 pm at Gathering Place Brewing Company (811 E Vienna Ave\, Milwaukee\, WI 53212). This is a free casual networking event without a presentation or panel. Come when you can and chat with whoever you want to. \n\n\n \n\n\nAbout HashtagMKE Socials: HashtagMKE is a community of local content creators and social media enthusiasts who come together to collaborate and network. This is an excellent opportunity to discuss social media marketing best practices\, favorite resources\, current trends\, tips and tricks. \nThese meetups are free and open to the public; we encourage you to invite your friends and colleagues! All are welcome to attend\, whether you’re a marketing manager with years of experience or an intern\, eager to learn more. \nStay the whole time or drop in when you can! We can’t wait to meet you IRL (in real life)! Bring some business cards to exchange or plan to write your social handle on our community whiteboard! \nIf this is your first event\, view our frequently asked questions.
URL:https://hashtagmke.com/event/social-041124/
LOCATION:Gathering Place Brewing Company\, 811 E Vienna Ave\, Milwaukee\, WI\, 53212\, United States
CATEGORIES:HashtagMKE Social
ATTACH;FMTTYPE=image/jpeg:https://hashtagmke.com/wp-content/uploads/2024/03/Apr11-HashtagMKE-Event-Header.jpg
ORGANIZER;CN="HashtagMKE":MAILTO:Events@HashtagMKE.com
END:VEVENT
BEGIN:VEVENT
DTSTART;TZID=America/Chicago:20240314T180000
DTEND;TZID=America/Chicago:20240314T200000
DTSTAMP:20260422T003728
CREATED:20240301T200033Z
LAST-MODIFIED:20240306T212734Z
UID:9681-1710439200-1710446400@hashtagmke.com
SUMMARY:Gaming Content + Streaming
DESCRIPTION:HashtagMKE Social’s Topic: Gaming Content + Streaming \nSpecial Guests: \n\nMike Dahle (X: @MrDahle) – President of WIHSEA (Wisconsin High School Esports Association)\nMatt Curtis (X: @CourtesyOfMatt) – Gaming Strategist at SuperAwesome (projects for Roblox and Fortnite)\nRaven Rohne (LI: RavenRohne) – Game Designer and Artist\n\nEvent Details: eSports and Gaming have picked up popularity in recent years leading to the creation of the Milwaukee Esports Alliance. Several collegiate programs for competitive gaming have also emerged. The interest in streaming and creating gaming content continues to grow\, which is why our next HashtagMKE Social will focus on this topic. \nThis is a free casual networking event without a presentation or panel. Come when you can and chat with whoever you want to. Our HashtagMKE Social will be at Vault in the River Center (111 E Kilbourn Ave\, Milwaukee\, WI 53202) on Thursday\, March 14 from 6-8 pm. \n\n\n \n\n\nMonday\, March 11: 2024 Wisconsin Esports Summit at the UW-M Panther Arena (ticket information) \nAbout HashtagMKE Socials: HashtagMKE is a community of local content creators and social media enthusiasts who come together to collaborate and network. This is an excellent opportunity to discuss social media marketing best practices\, favorite resources\, current trends\, tips and tricks. \nThese meetups are free and open to the public; we encourage you to invite your friends and colleagues! All are welcome to attend\, whether you’re a marketing manager with years of experience or an intern\, eager to learn more. \nStay the whole time or drop in when you can! We can’t wait to meet you IRL (in real life)! Bring some business cards to exchange or plan to write your social handle on our community whiteboard! \nIf this is your first event\, take a look at our frequently asked questions.
URL:https://hashtagmke.com/event/social-031424/
LOCATION:Vault\, 111 E Kilbourn Ave\, Milwaukee\, WI\, 53202\, United States
CATEGORIES:HashtagMKE Social
ATTACH;FMTTYPE=image/jpeg:https://hashtagmke.com/wp-content/uploads/2024/03/HashtagMKE-Mar14-Header.jpg
ORGANIZER;CN="HashtagMKE":MAILTO:Events@HashtagMKE.com
END:VEVENT
BEGIN:VEVENT
DTSTART;TZID=America/Chicago:20240311T123000
DTEND;TZID=America/Chicago:20240311T170000
DTSTAMP:20260422T003728
CREATED:20240221T164635Z
LAST-MODIFIED:20240221T164809Z
UID:9564-1710160200-1710176400@hashtagmke.com
SUMMARY:Wisconsin Esports Summit 2024
DESCRIPTION:HashtagMKE is supporting the Milwaukee Esports Alliance for its 3rd Annual Wisconsin Esports Summit on Monday\, March 11\, 2024. \nGet your ticket(s) now via RSVPify. \n \nThe summit is focused on bringing together individuals\, community leaders\, gamers\, and businesses interested in learning and connecting around the future of esports in the region. \nAgenda at a Glance \n\n12:30p: Arrival\n1:15p: Welcome + Panel Discussion\n1:45p: Focused Networking + Gameplay\n2:15p: Panel Discussion (The Many Faces of WI Gaming)\n3:00p: Breakout Sessions + Collaborations\n4:00p: Closing + WCRL Tourney Finals\n\nGet your ticket(s) now via RSVPify.
URL:https://hashtagmke.com/event/wi-esports-summit-2024/
LOCATION:UWM Panther Arena\, 400 W Kilbourn Ave\, Milwaukee\, WI\, 53203\, United States
ATTACH;FMTTYPE=image/jpeg:https://hashtagmke.com/wp-content/uploads/2024/02/WI-esports-Summit.jpg
ORGANIZER;CN="Milwaukee Esports Alliance":MAILTO:Brandon@MKEEsports.com
END:VEVENT
BEGIN:VEVENT
DTSTART;TZID=America/Chicago:20240210T160000
DTEND;TZID=America/Chicago:20240210T200000
DTSTAMP:20260422T003728
CREATED:20240117T205212Z
LAST-MODIFIED:20240117T205319Z
UID:9051-1707580800-1707595200@hashtagmke.com
SUMMARY:HeartHead Self Care Soiree
DESCRIPTION:HashtagMKE is supporting HeartHead with their promotional efforts for their upcoming Self Care Soiree. \nTickets are available on Eventbrite. \nIt will be an enchanting evening dedicated to nourishing the soul and supporting mental wellness. \nThe goal is to raise money to help people pay for mental health care needs and therapy. \nFood from Tall Guy and a Grill. \nBeer and wine will be available at the cash bar. \nYou’ll be able to bid on silent auction items and purchase raffle tickets too.
URL:https://hashtagmke.com/event/hearthead-self-care-soiree/
LOCATION:Broken Bat Brewery\, 135 E Pittsburgh Ave\, Milwaukee\, WI\, 53204\, United States
ATTACH;FMTTYPE=image/jpeg:https://hashtagmke.com/wp-content/uploads/2024/01/HeartHead-Soiree.jpg
ORGANIZER;CN="HeartHead":MAILTO:Riggs@HeartHeadHelps.com
END:VEVENT
BEGIN:VEVENT
DTSTART;TZID=America/Chicago:20240208T180000
DTEND;TZID=America/Chicago:20240208T200000
DTSTAMP:20260422T003728
CREATED:20240117T184854Z
LAST-MODIFIED:20240117T184854Z
UID:9046-1707415200-1707422400@hashtagmke.com
SUMMARY:Exploring Travel Content for Social Media
DESCRIPTION:HashtagMKE Social’s Topic: Travel (and Tourism) Content for Social Media \nSpecial Guests: \n\nChelsey (IG: @TheWisconsinista) – Wisconsin Travel Guide\nIna (IG: @VISITMilwaukee) – Social Media Coordinator\nSojourner (IG: @TheSojournies) – Traveling Remote Social Worker\nSophia (IG: @ThriftyWithACompass) – Travel Content Creator (with BFF Wunmi)\n\nEvent Details: If you want to share more of your travels with the world or looking to improve the reach of the content you already post from your adventures\, this is the event for you! Each of our invited special guests are experienced with creating travel content on social media. \nThis is a free casual networking event without a presentation or panel. Come when you can and chat with whoever you want to. Our HashtagMKE Social will be at Wall Street Stock Bar (219 S 2nd St\, Milwaukee\, WI 53204) on Thursday\, February 8 from 6-8 pm. \n\n\n \n\n\nAbout HashtagMKE Socials: HashtagMKE is a community of local content creators and social media enthusiasts who come together to collaborate and network. This is an excellent opportunity to discuss social media marketing best practices\, favorite resources\, current trends\, tips and tricks. \nThese meetups are free and open to the public; we encourage you to invite your friends and colleagues! All are welcome to attend\, whether you’re a marketing manager with years of experience or an intern\, eager to learn more. \nStay the whole time or drop in when you can! We can’t wait to meet you IRL (in real life)! Bring some business cards to exchange or plan to write your social handle on our community whiteboard! \nIf this is your first event\, take a look at our frequently asked questions.
URL:https://hashtagmke.com/event/social-020824/
LOCATION:Wall Street Stock Bar\, 219 S 2nd St\, Milwaukee\, WI\, 53204\, United States
CATEGORIES:HashtagMKE Social
ATTACH;FMTTYPE=image/jpeg:https://hashtagmke.com/wp-content/uploads/2024/01/Travel-Feb8-Event-Header.jpg
ORGANIZER;CN="HashtagMKE":MAILTO:Events@HashtagMKE.com
END:VEVENT
BEGIN:VEVENT
DTSTART;TZID=America/Chicago:20240111T180000
DTEND;TZID=America/Chicago:20240111T200000
DTSTAMP:20260422T003728
CREATED:20231221T215343Z
LAST-MODIFIED:20231221T215420Z
UID:8697-1704996000-1705003200@hashtagmke.com
SUMMARY:Celebrate 7 Years of HashtagMKE!
DESCRIPTION:HashtagMKE is entering year 8 of growing a community for creatives in Greater Milwaukee’s social media space! Celebrate with fellow Hashtaggers on Thursday\, January 11\, 2024\, from 6-8 p.m. at Experts Only (782 N Jefferson St\, Milwaukee\, Wisconsin\, 53202). \n \nNetworking: Our events provide the opportunity to discuss social media marketing best practices\, preferred resources\, current trends\, tips\, and tricks. \nThis meetup is free and open to the public; we encourage you to invite your friends and colleagues! All are welcome to attend\, whether you’re a marketing manager with years of experience or an intern\, eager to learn more. \nStay the whole time or drop in when you can! We can’t wait to meet you IRL (in real life)! Make sure to bring some business cards to exchange or just plan to write your social handle(s) on our community whiteboard! \nCreate Content: We encourage all those who attend to create content during the event\, please tag @HashtagMKE in your posts (or #HashtagMKE) so we can see the event from your perspective! \nIf this is your first event\, take a look at our frequently asked questions.
URL:https://hashtagmke.com/event/7-years-of-hashtagmke/
LOCATION:Experts Only\, 782 N Jefferson St\, Milwaukee\, WI\, 53202\, United States
CATEGORIES:HashtagMKE Social
ATTACH;FMTTYPE=image/jpeg:https://hashtagmke.com/wp-content/uploads/2023/12/Experts-Only-Exterior-scaled-e1703195455277.jpg
ORGANIZER;CN="HashtagMKE":MAILTO:Events@HashtagMKE.com
END:VEVENT
BEGIN:VEVENT
DTSTART;TZID=America/Chicago:20231214T180000
DTEND;TZID=America/Chicago:20231214T200000
DTSTAMP:20260422T003728
CREATED:20231126T032421Z
LAST-MODIFIED:20231207T004000Z
UID:8424-1702576800-1702584000@hashtagmke.com
SUMMARY:Free Headshots by Jayce Hindman
DESCRIPTION:HashtagMKE Social’s Topic: ONE (1) FREE Professional Headshot \nPhotographer: Jayce Hindman \nDetails: On social media\, your profile picture is often your first (and sometimes last) impression. When was the last time you updated yours (and it wasn’t a selfie)? Attend our Social for ONE (1) FREE professional headshot by Jayce. Our Social is on Thursday\, December 14 from 6-8p at Radio Milwaukee (220 E Pittsburgh Ave\, Milwaukee\, WI 53204). \n \nRead: 5 Tips for Updating Your Profile Picture \nSpecial pre-event: State of Sound is from 5:30-6p (doors open at 5p) featuring Mark Waldoch holiday special\, hosted by DJ Kenny Perez on Thursday\, December 14 at Radio Milwaukee. This is a free live performance showcasing talent from across Wisconsin. \nAbout HashtagMKE Socials: HashtagMKE is a community of local content creators and social media enthusiasts who come together to collaborate and network. This is an excellent opportunity to discuss social media marketing best practices\, favorite resources\, current trends\, tips and tricks. \nThese meetups are free and open to the public; we encourage you to invite your friends and colleagues! All are welcome to attend\, whether you’re a marketing manager with years of experience or an intern\, eager to learn more. \nStay the whole time or drop in when you can! We can’t wait to meet you IRL (in real life)! Make sure to bring some business cards to exchange or just plan to write your social handle(s) on our community whiteboard! \nIf this is your first event\, take a look at our frequently asked questions.
URL:https://hashtagmke.com/event/free-headshots-dec-2023/
LOCATION:Radio Milwaukee\, 220 E Pittsburgh Ave\, Milwaukee\, WI\, 53204\, United States
CATEGORIES:Free Headshots,HashtagMKE Social
ATTACH;FMTTYPE=image/jpeg:https://hashtagmke.com/wp-content/uploads/2023/11/Radio-Milwaukee-Header.jpg
ORGANIZER;CN="HashtagMKE":MAILTO:Events@HashtagMKE.com
END:VEVENT
BEGIN:VEVENT
DTSTART;TZID=America/Chicago:20231109T180000
DTEND;TZID=America/Chicago:20231109T200000
DTSTAMP:20260422T003728
CREATED:20231013T150054Z
LAST-MODIFIED:20231128T170358Z
UID:8095-1699552800-1699560000@hashtagmke.com
SUMMARY:Milwaukee Fitness Industry on Social Media
DESCRIPTION:HashtagMKE Social’s Topic: Fitness Content for Social Media \nSpecial Guests: \n\nAshton Crawley (IG: @Ashton.Crawley) – Online Personal Trainer\nCharlie Antoine (IG: @EliteSportsClub) – Marketing Specialist for Elite Sports Club\nHannah Asanah (IG: @TheHannahAsanah) – Online Fitness Coach\n\nEvent Details: If you’re trying to get (or stay) fit\, chances are you follow fitness-focused content creators. Or maybe you want tips for your own fitness content\, this is the event for you! \nThis is a casual networking event without a presentation or panel. Come when you can and chat with whoever you want to. The HashtagMKE Social will be at Dead Bird Brewing Company (1726 N 5th St\, Milwaukee\, WI 53212) on Thursday\, November 9 from 6-8 pm. \n\n\n \n\n\nAbout HashtagMKE Socials: HashtagMKE is a community of local content creators and social media enthusiasts who come together to collaborate and network. This is an excellent opportunity to discuss social media marketing best practices\, favorite resources\, current trends\, tips and tricks. \nThese meetups are free and open to the public; we encourage you to invite your friends and colleagues! All are welcome to attend\, whether you’re a marketing manager with years of experience or an intern\, eager to learn more. \nStay the whole time or drop in when you can! We can’t wait to meet you IRL (in real life)! Make sure to bring some business cards to exchange or just plan to write your social handle(s) on our community whiteboard! \nIf this is your first event\, take a look at our frequently asked questions.
URL:https://hashtagmke.com/event/hashtagmke-social-110923/
LOCATION:Dead Bird Brewing Company\, 1726 N 5th St\, Milwaukee\, WI\, 53212\, United States
CATEGORIES:HashtagMKE Social
ATTACH;FMTTYPE=image/jpeg:https://hashtagmke.com/wp-content/uploads/2023/10/Dead-Bird-2-scaled-e1698637819475.jpg
ORGANIZER;CN="HashtagMKE":MAILTO:Events@HashtagMKE.com
END:VEVENT
BEGIN:VEVENT
DTSTART;TZID=America/Chicago:20231012T180000
DTEND;TZID=America/Chicago:20231012T200000
DTSTAMP:20260422T003728
CREATED:20230915T150000Z
LAST-MODIFIED:20231128T171709Z
UID:8083-1697133600-1697140800@hashtagmke.com
SUMMARY:Networking for Social Media Marketers
DESCRIPTION:Our HashtagMKE Social is a casual networking event without a presentation or panel. Come when you can and chat with whoever you want to. Join us on Thursday\, October 12 from 6-8 p.m. at the Iron Horse Hotel (500 W Florida St\, Milwaukee\, WI 53204). \nAbout HashtagMKE Socials: HashtagMKE is a community of local content creators and social media enthusiasts who come together to collaborate and network. This is an excellent opportunity to discuss social media marketing best practices\, favorite resources\, current trends\, tips and tricks. \n\n\n\n\nThese meetups are free and open to the public; we encourage you to invite your friends and colleagues! All are welcome to attend\, whether you’re a marketing manager with years of experience or an intern\, eager to learn more. \nStay the whole time or drop in when you can! We can’t wait to meet you IRL (in real life)! Make sure to bring some business cards to exchange or just plan to write your social handle(s) on our community whiteboard! \nIf this is your first event\, take a look at our frequently asked questions.
URL:https://hashtagmke.com/event/hashtagmke-social-101223/
LOCATION:The Iron Horse Hotel\, 500 W Florida St\, Milwaukee\, WI\, 53204\, United States
ATTACH;FMTTYPE=image/jpeg:https://hashtagmke.com/wp-content/uploads/2023/10/IMG_0540-scaled-e1698632723428.jpg
ORGANIZER;CN="HashtagMKE":MAILTO:Events@HashtagMKE.com
END:VEVENT
END:VCALENDAR